Workbook
Name Assessment_Stage: Dropdowns!$M$2:$M$5
Name Language: Dropdowns!$Q$2:$Q$7
Name Standard_Version: Dropdowns!$O$2:$O$4
Name v2.0_Pis: Dropdowns!$A$1:$A$38
Name v3.0_Pis: Dropdowns!$B$1:$B$38
Name v3.1_Pis: Dropdowns!$C$1:$C$36
Name v4.0_Pis: Dropdowns!$D$1:$D$36

Sheet 1 - Contact Details
A1: Stakeholder contact and assessment details
A2: Once completed, this stakeholder input template will be uploaded to the MSC website. Please inform the CAB if you would like your address, email and/or phone number redacted prior to upload.
A3: Category | B3: Contact details | C3: Guidance
A4: Title | C4: Optional
A5: First name*
A6: Last name*
A7: Email*
A8: Preferred Language* | B8: Select from Dropdown | C8: required to populated Tab 2
A9: Organisation | C9: Please enter the legal or registered name of your organisation or company or N/A if not applicable
A10: Department | C10: Optional
A11: Job title | C11: Optional
A12: Description | C12: Optional description of your organisation
A13: Phone number | C13: Optional
A14: Postal address | C14: Optional
A15: Fishery name* | C15: As the fishery under assessment appears in the Fisheries Update or on fisheries.msc.org.
A16: Certification body (CAB)* | C16: The third party organisation conducting the assessment, as it appears on fisheries.msc.org.
A17: Assessment stage* | C17: The stage of the assessment that you are providing input into.

Sheet 2 - Introduction
B1: Text here web translated. Will be validated by local experts before final version
A2: ='1 - Contact Details'!B8 -> Select from Dropdown | B2: Introduction For Stakeholders (Complete Contact Details Tab - Preferred Language cell) | D2: Instructions for CABs and assessment teams
A3: 1 | B3: =IF($A$2="Select from Dropdown","-----",IF($A$2="Spanish",_xlfn.XLOOKUP(A3,'Intro Text'!A:A,'Intro Text'!C:C),IF($A$2="English",_xlfn.XLOOKUP(A3,'Intro Text'!A:A,'Intro Text'!B:B),IF($A$2="Japanese",_xlfn.XLOOKUP(A3,'Intro Text'!A:A,'Intro Text'!D:D),IF($A$2="French",_xlfn.XLOOKUP(A3,'Intro Text'!A:A,'Intro Text'!F:F),IF($A$2="German",_xlfn.XLOOKUP(A3,'Intro Text'!A:A,'Intro Text'!E:E))))))) -> ----- | D3: The CAB shall complete the CAB response columns shaded blue in each page, noting that only the options listed in the Codes page may be used in the CAB Response Code cells.
A4: 2 | B4: =IF($A$2="Select from Dropdown","-----",IF($A$2="Spanish",_xlfn.XLOOKUP(A4,'Intro Text'!A:A,'Intro Text'!C:C),IF($A$2="English",_xlfn.XLOOKUP(A4,'Intro Text'!A:A,'Intro Text'!B:B),IF($A$2="Japanese",_xlfn.XLOOKUP(A4,'Intro Text'!A:A,'Intro Text'!D:D),IF($A$2="French",_xlfn.XLOOKUP(A4,'Intro Text'!A:A,'Intro Text'!F:F),IF($A$2="German",_xlfn.XLOOKUP(A4,'Intro Text'!A:A,'Intro Text'!E:E))))))) -> ----- | D4: The CAB shall name the spreadsheet in the following format [Stakeholder organisation/name]_[Short fishery name]_[Assessment stage] so that it will be clearly identifiable when uploaded. This will enable stakeholders to download their template and enter any follow up comments at PCDR stage.
A5: 3 | B5: =IF($A$2="Select from Dropdown","-----",IF($A$2="Spanish",_xlfn.XLOOKUP(A5,'Intro Text'!A:A,'Intro Text'!C:C),IF($A$2="English",_xlfn.XLOOKUP(A5,'Intro Text'!A:A,'Intro Text'!B:B),IF($A$2="Japanese",_xlfn.XLOOKUP(A5,'Intro Text'!A:A,'Intro Text'!D:D),IF($A$2="French",_xlfn.XLOOKUP(A5,'Intro Text'!A:A,'Intro Text'!F:F),IF($A$2="German",_xlfn.XLOOKUP(A5,'Intro Text'!A:A,'Intro Text'!E:E))))))) -> ----- | D5: The CAB shall include all the information recorded here in the appropriate report(s): Public Comment Draft Report, Final Draft Report, Public Certification Report. The CAB may remove empty rows when transferring information into the appropriate report(s).
A6: 4 | B6: =IF($A$2="Select from Dropdown","-----",IF($A$2="Spanish",_xlfn.XLOOKUP(A6,'Intro Text'!A:A,'Intro Text'!C:C),IF($A$2="English",_xlfn.XLOOKUP(A6,'Intro Text'!A:A,'Intro Text'!B:B),IF($A$2="Japanese",_xlfn.XLOOKUP(A6,'Intro Text'!A:A,'Intro Text'!D:D),IF($A$2="French",_xlfn.XLOOKUP(A6,'Intro Text'!A:A,'Intro Text'!F:F),IF($A$2="German",_xlfn.XLOOKUP(A6,'Intro Text'!A:A,'Intro Text'!E:E))))))) -> -----
A7: 5 | B7: =IF($A$2="Select from Dropdown","-----",IF($A$2="Spanish",_xlfn.XLOOKUP(A7,'Intro Text'!A:A,'Intro Text'!C:C),IF($A$2="English",_xlfn.XLOOKUP(A7,'Intro Text'!A:A,'Intro Text'!B:B),IF($A$2="Japanese",_xlfn.XLOOKUP(A7,'Intro Text'!A:A,'Intro Text'!D:D),IF($A$2="French",_xlfn.XLOOKUP(A7,'Intro Text'!A:A,'Intro Text'!F:F),IF($A$2="German",_xlfn.XLOOKUP(A7,'Intro Text'!A:A,'Intro Text'!E:E))))))) -> ----- | D7: Resources
A8: 6 | B8: =IF($A$2="Select from Dropdown","-----",IF($A$2="Spanish",_xlfn.XLOOKUP(A8,'Intro Text'!A:A,'Intro Text'!C:C),IF($A$2="English",_xlfn.XLOOKUP(A8,'Intro Text'!A:A,'Intro Text'!B:B),IF($A$2="Japanese",_xlfn.XLOOKUP(A8,'Intro Text'!A:A,'Intro Text'!D:D),IF($A$2="French",_xlfn.XLOOKUP(A8,'Intro Text'!A:A,'Intro Text'!F:F),IF($A$2="German",_xlfn.XLOOKUP(A8,'Intro Text'!A:A,'Intro Text'!E:E))))))) -> ----- | D8: How to engage with a fishery assessment
A9: 7 | B9: =IF($A$2="Select from Dropdown","-----",IF($A$2="Spanish",_xlfn.XLOOKUP(A9,'Intro Text'!A:A,'Intro Text'!C:C),IF($A$2="English",_xlfn.XLOOKUP(A9,'Intro Text'!A:A,'Intro Text'!B:B),IF($A$2="Japanese",_xlfn.XLOOKUP(A9,'Intro Text'!A:A,'Intro Text'!D:D),IF($A$2="French",_xlfn.XLOOKUP(A9,'Intro Text'!A:A,'Intro Text'!F:F),IF($A$2="German",_xlfn.XLOOKUP(A9,'Intro Text'!A:A,'Intro Text'!E:E))))))) -> ----- | D9: MSC Fisheries Standard
A10: 8 | B10: =IF($A$2="Select from Dropdown","-----",IF($A$2="Spanish",_xlfn.XLOOKUP(A10,'Intro Text'!A:A,'Intro Text'!C:C),IF($A$2="English",_xlfn.XLOOKUP(A10,'Intro Text'!A:A,'Intro Text'!B:B),IF($A$2="Japanese",_xlfn.XLOOKUP(A10,'Intro Text'!A:A,'Intro Text'!D:D),IF($A$2="French",_xlfn.XLOOKUP(A10,'Intro Text'!A:A,'Intro Text'!F:F),IF($A$2="German",_xlfn.XLOOKUP(A10,'Intro Text'!A:A,'Intro Text'!E:E))))))) -> ----- | D10: MSC Fisheries Certification Process
A11: 9 | B11: =IF($A$2="Select from Dropdown","-----",IF($A$2="Spanish",_xlfn.XLOOKUP(A11,'Intro Text'!A:A,'Intro Text'!C:C),IF($A$2="English",_xlfn.XLOOKUP(A11,'Intro Text'!A:A,'Intro Text'!B:B),IF($A$2="Japanese",_xlfn.XLOOKUP(A11,'Intro Text'!A:A,'Intro Text'!D:D),IF($A$2="French",_xlfn.XLOOKUP(A11,'Intro Text'!A:A,'Intro Text'!F:F),IF($A$2="German",_xlfn.XLOOKUP(A11,'Intro Text'!A:A,'Intro Text'!E:E))))))) -> ----- | D11: MSC Stakeholder Privacy Policy
A12: 10 | B12: =IF($A$2="Select from Dropdown","-----",IF($A$2="Spanish",_xlfn.XLOOKUP(A12,'Intro Text'!A:A,'Intro Text'!C:C),IF($A$2="English",_xlfn.XLOOKUP(A12,'Intro Text'!A:A,'Intro Text'!B:B),IF($A$2="Japanese",_xlfn.XLOOKUP(A12,'Intro Text'!A:A,'Intro Text'!D:D),IF($A$2="French",_xlfn.XLOOKUP(A12,'Intro Text'!A:A,'Intro Text'!F:F),IF($A$2="German",_xlfn.XLOOKUP(A12,'Intro Text'!A:A,'Intro Text'!E:E))))))) -> -----
A13: 11 | B13: =IF($A$2="Select from Dropdown","-----",IF($A$2="Spanish",_xlfn.XLOOKUP(A13,'Intro Text'!A:A,'Intro Text'!C:C),IF($A$2="English",_xlfn.XLOOKUP(A13,'Intro Text'!A:A,'Intro Text'!B:B),IF($A$2="Japanese",_xlfn.XLOOKUP(A13,'Intro Text'!A:A,'Intro Text'!D:D),IF($A$2="French",_xlfn.XLOOKUP(A13,'Intro Text'!A:A,'Intro Text'!F:F),IF($A$2="German",_xlfn.XLOOKUP(A13,'Intro Text'!A:A,'Intro Text'!E:E))))))) -> -----
A14: 12 | B14: =IF($A$2="Select from Dropdown","-----",IF($A$2="Spanish",_xlfn.XLOOKUP(A14,'Intro Text'!A:A,'Intro Text'!C:C),IF($A$2="English",_xlfn.XLOOKUP(A14,'Intro Text'!A:A,'Intro Text'!B:B),IF($A$2="Japanese",_xlfn.XLOOKUP(A14,'Intro Text'!A:A,'Intro Text'!D:D),IF($A$2="French",_xlfn.XLOOKUP(A14,'Intro Text'!A:A,'Intro Text'!F:F),IF($A$2="German",_xlfn.XLOOKUP(A14,'Intro Text'!A:A,'Intro Text'!E:E))))))) -> -----

Sheet 3 - Performance Indicators
B1: Select Assessement Stage: | C1: Select Assessment Stage
B2: Standard Version | C2: Select Standard Version
B3: Calculated Cell (Select Standard version in cell B2 and value in Column C) | C3: Select Standard Version, above, before completing this section. Select at Performance Indicator about which you are submitting information. | D3: Summary sentence. This may be useful as a summary to others reading your input or when discussing issues raised with CABs. Optional. | E3: Select the primary aspect of the assessment to which your comment relates | F3: Detail of stakeholder input | G3: Objective evidence or references should be provided in support of any claims. | H3: Please select an input code to describe any suggested change based on your input and evidence. Optional. See the Codes section for a description of the codes. | I3: The CAB shall respond in this column. Where appropriate, CAB responses should include details of the changes that have been made in the report. | J3: The CAB shall assign a response code to each row completed by the stakeholder.
B4: Auto Complete | C4: Dropdown | D4: Free text | E4: Dropdown | F4: Free text | G4: Free text | H4: Dropdown | J4: Dropdown
A5: Select Assessement Stage: | B5: Principle | C5: Performance Indicator Number | D5: Input summary | E5: Stakeholder Input Relates To | F5: Input detail | G5: Evidence or references | H5: Stakeholder input type | I5: CAB response to stakeholder input | J5: CAB response code
A6: =IF(Table4[[#This Row],[Performance Indicator Number]]="","-----",$C$1) -> ----- | B6: =IF(LEFT(Table4[[#This Row],[Performance Indicator Number]],1)="1","Principle 1 - Sustainable fish stocks",IF(LEFT(Table4[[#This Row],[Performance Indicator Number]],1)="2","Principle 2 - Minimising environmental impacts",IF(LEFT(Table4[[#This Row],[Performance Indicator Number]],1)="3","Principle 3 - Effective management","-----"))) -> ----- | H6: Select Expected Outcome | J6: Select CAB Response Type
A7: =IF(Table4[[#This Row],[Performance Indicator Number]]="","-----",$C$1) -> ----- | B7: =IF(LEFT(Table4[[#This Row],[Performance Indicator Number]],1)="1","Principle 1 - Sustainable fish stocks",IF(LEFT(Table4[[#This Row],[Performance Indicator Number]],1)="2","Principle 2 - Minimising environmental impacts",IF(LEFT(Table4[[#This Row],[Performance Indicator Number]],1)="3","Principle 3 - Effective management","-----"))) -> ----- | D7: =LEFT(Table4[[#This Row],[Performance Indicator Number]],1) | H7: Select Expected Outcome | J7: Select CAB Response Type
A8: =IF(Table4[[#This Row],[Performance Indicator Number]]="","-----",$C$1) -> ----- | B8: =IF(LEFT(Table4[[#This Row],[Performance Indicator Number]],1)="1","Principle 1 - Sustainable fish stocks",IF(LEFT(Table4[[#This Row],[Performance Indicator Number]],1)="2","Principle 2 - Minimising environmental impacts",IF(LEFT(Table4[[#This Row],[Performance Indicator Number]],1)="3","Principle 3 - Effective management","-----"))) -> ----- | D8: =LEFT(Table4[[#This Row],[Performance Indicator Number]],1) | H8: Select Expected Outcome | J8: Select CAB Response Type
A9: =IF(Table4[[#This Row],[Performance Indicator Number]]="","-----",$C$1) -> ----- | B9: =IF(LEFT(Table4[[#This Row],[Performance Indicator Number]],1)="1","Principle 1 - Sustainable fish stocks",IF(LEFT(Table4[[#This Row],[Performance Indicator Number]],1)="2","Principle 2 - Minimising environmental impacts",IF(LEFT(Table4[[#This Row],[Performance Indicator Number]],1)="3","Principle 3 - Effective management","-----"))) -> ----- | D9: =LEFT(Table4[[#This Row],[Performance Indicator Number]],1) | H9: Select Expected Outcome | J9: Select CAB Response Type
A10: =IF(Table4[[#This Row],[Performance Indicator Number]]="","-----",$C$1) -> ----- | B10: =IF(LEFT(Table4[[#This Row],[Performance Indicator Number]],1)="1","Principle 1 - Sustainable fish stocks",IF(LEFT(Table4[[#This Row],[Performance Indicator Number]],1)="2","Principle 2 - Minimising environmental impacts",IF(LEFT(Table4[[#This Row],[Performance Indicator Number]],1)="3","Principle 3 - Effective management","-----"))) -> ----- | D10: =LEFT(Table4[[#This Row],[Performance Indicator Number]],1) | H10: Select Expected Outcome | J10: Select CAB Response Type
A11: =IF(Table4[[#This Row],[Performance Indicator Number]]="","-----",$C$1) -> ----- | B11: =IF(LEFT(Table4[[#This Row],[Performance Indicator Number]],1)="1","Principle 1 - Sustainable fish stocks",IF(LEFT(Table4[[#This Row],[Performance Indicator Number]],1)="2","Principle 2 - Minimising environmental impacts",IF(LEFT(Table4[[#This Row],[Performance Indicator Number]],1)="3","Principle 3 - Effective management","-----"))) -> ----- | D11: =LEFT(Table4[[#This Row],[Performance Indicator Number]],1) | H11: Select Expected Outcome | J11: Select CAB Response Type
A12: =IF(Table4[[#This Row],[Performance Indicator Number]]="","-----",$C$1) -> ----- | B12: =IF(LEFT(Table4[[#This Row],[Performance Indicator Number]],1)="1","Principle 1 - Sustainable fish stocks",IF(LEFT(Table4[[#This Row],[Performance Indicator Number]],1)="2","Principle 2 - Minimising environmental impacts",IF(LEFT(Table4[[#This Row],[Performance Indicator Number]],1)="3","Principle 3 - Effective management","-----"))) -> ----- | D12: =LEFT(Table4[[#This Row],[Performance Indicator Number]],1) | H12: Select Expected Outcome | J12: Select CAB Response Type
A13: =IF(Table4[[#This Row],[Performance Indicator Number]]="","-----",$C$1) -> ----- | B13: =IF(LEFT(Table4[[#This Row],[Performance Indicator Number]],1)="1","Principle 1 - Sustainable fish stocks",IF(LEFT(Table4[[#This Row],[Performance Indicator Number]],1)="2","Principle 2 - Minimising environmental impacts",IF(LEFT(Table4[[#This Row],[Performance Indicator Number]],1)="3","Principle 3 - Effective management","-----"))) -> ----- | D13: =LEFT(Table4[[#This Row],[Performance Indicator Number]],1) | H13: Select Expected Outcome | J13: Select CAB Response Type
A14: =IF(Table4[[#This Row],[Performance Indicator Number]]="","-----",$C$1) -> ----- | B14: =IF(LEFT(Table4[[#This Row],[Performance Indicator Number]],1)="1","Principle 1 - Sustainable fish stocks",IF(LEFT(Table4[[#This Row],[Performance Indicator Number]],1)="2","Principle 2 - Minimising environmental impacts",IF(LEFT(Table4[[#This Row],[Performance Indicator Number]],1)="3","Principle 3 - Effective management","-----"))) -> ----- | D14: =LEFT(Table4[[#This Row],[Performance Indicator Number]],1) | H14: Select Expected Outcome | J14: Select CAB Response Type
A15: =IF(Table4[[#This Row],[Performance Indicator Number]]="","-----",$C$1) -> ----- | B15: =IF(LEFT(Table4[[#This Row],[Performance Indicator Number]],1)="1","Principle 1 - Sustainable fish stocks",IF(LEFT(Table4[[#This Row],[Performance Indicator Number]],1)="2","Principle 2 - Minimising environmental impacts",IF(LEFT(Table4[[#This Row],[Performance Indicator Number]],1)="3","Principle 3 - Effective management","-----"))) -> ----- | D15: =LEFT(Table4[[#This Row],[Performance Indicator Number]],1) | H15: Select Expected Outcome | J15: Select CAB Response Type
A16: =IF(Table4[[#This Row],[Performance Indicator Number]]="","-----",$C$1) -> ----- | B16: =IF(LEFT(Table4[[#This Row],[Performance Indicator Number]],1)="1","Principle 1 - Sustainable fish stocks",IF(LEFT(Table4[[#This Row],[Performance Indicator Number]],1)="2","Principle 2 - Minimising environmental impacts",IF(LEFT(Table4[[#This Row],[Performance Indicator Number]],1)="3","Principle 3 - Effective management","-----"))) -> ----- | D16: =LEFT(Table4[[#This Row],[Performance Indicator Number]],1) | H16: Select Expected Outcome | J16: Select CAB Response Type
A17: =IF(Table4[[#This Row],[Performance Indicator Number]]="","-----",$C$1) -> ----- | B17: =IF(LEFT(Table4[[#This Row],[Performance Indicator Number]],1)="1","Principle 1 - Sustainable fish stocks",IF(LEFT(Table4[[#This Row],[Performance Indicator Number]],1)="2","Principle 2 - Minimising environmental impacts",IF(LEFT(Table4[[#This Row],[Performance Indicator Number]],1)="3","Principle 3 - Effective management","-----"))) -> ----- | D17: =LEFT(Table4[[#This Row],[Performance Indicator Number]],1) | H17: Select Expected Outcome | J17: Select CAB Response Type
A18: =IF(Table4[[#This Row],[Performance Indicator Number]]="","-----",$C$1) -> ----- | B18: =IF(LEFT(Table4[[#This Row],[Performance Indicator Number]],1)="1","Principle 1 - Sustainable fish stocks",IF(LEFT(Table4[[#This Row],[Performance Indicator Number]],1)="2","Principle 2 - Minimising environmental impacts",IF(LEFT(Table4[[#This Row],[Performance Indicator Number]],1)="3","Principle 3 - Effective management","-----"))) -> ----- | D18: =LEFT(Table4[[#This Row],[Performance Indicator Number]],1) | H18: Select Expected Outcome | J18: Select CAB Response Type
... A34: =IF(Table4[[#This Row],[Performance Indicator Number]]="","-----",$C$1) -> ----- | B34: =IF(LEFT(Table4[[#This Row],[Performance Indicator Number]],1)="1","Principle 1 - Sustainable fish stocks",IF(LEFT(Table4[[#This Row],[Performance Indicator Number]],1)="2","Principle 2 - Minimising environmental impacts",IF(LEFT(Table4[[#This Row],[Performance Indicator Number]],1)="3","Principle 3 - Effective management","-----"))) -> ----- | D34: =LEFT(Table4[[#This Row],[Performance Indicator Number]],1) | H34: Select Expected Outcome | J34: Select CAB Response Type

Sheet 4 - General Comments
A1: General comments
A2: Please identify whether you are submitting comments on the Announcement Comment Draft Report, Site visit, or Public Comment Draft Report, Surveillance Audit. | B2: General comments on the assessment. Stakeholders should note that input is most useful for assessment teams when attributed to an MSC Performance Indicator or Principle, and when objective evidence and references are provided in support of any claims. Stakeholders can use this tab if they are submitting information relevant to multiple Performance Indicators or information that is extensive or in a format that isn't easy to incorporate into an Excel spreadsheet, for example data sets, reports or papers. Where this is the case stakeholders can summarise the information here and provide the full information to the CAB via email. | C2: Objective evidence or references should be provided in support of any claims. | D2: The CAB should respond in this column. Where appropriate, CAB responses should include details of the changes that have been made in the report. | E2: If appropriate, the CAB shall assign a response code to each row completed by the stakeholder.
A3: Assessment stage | B3: General comments | C3: Evidence or references | D3: CAB response to stakeholder input | E3: CAB Response Code
A4: ='3 - Performance Indicators'!C1 -> Select Assessment Stage
A5: -----
A6: -----
A7: -----
A8: -----
A9: -----
A10: -----
A11: -----
A12: -----
A13: -----
A14: -----
A15: -----
A16: -----
... A42: -----

Sheet 5 - For Word
A1: To add rows, drag formulas to accommodate
A2: Sheet will populate from PI Tab
A3: Performance Indicator Number | B3: Input summary | C3: Stakeholder Input Relates To | D3: Input detail | E3: Evidence or references | F3: CAB Response to Stakeholder
A4: =IF('3 - Performance Indicators'!C6="","",'3 - Performance Indicators'!C6) | B4: =IF('3 - Performance Indicators'!D6="","",'3 - Performance Indicators'!D6) | C4: =IF('3 - Performance Indicators'!E6="","",'3 - Performance Indicators'!E6) | D4: =IF('3 - Performance Indicators'!F6="","",'3 - Performance Indicators'!F6) | E4: =IF('3 - Performance Indicators'!G6="","",'3 - Performance Indicators'!G6) | F4: =IF('3 - Performance Indicators'!I6="","",'3 - Performance Indicators'!I6)
A5: =IF('3 - Performance Indicators'!C7="","",'3 - Performance Indicators'!C7) | B5: =IF('3 - Performance Indicators'!D7="","",'3 - Performance Indicators'!D7) | C5: =IF('3 - Performance Indicators'!E7="","",'3 - Performance Indicators'!E7) | D5: =IF('3 - Performance Indicators'!F7="","",'3 - Performance Indicators'!F7) | E5: =IF('3 - Performance Indicators'!G7="","",'3 - Performance Indicators'!G7) | F5: =IF('3 - Performance Indicators'!I7="","",'3 - Performance Indicators'!I7)
A6: =IF('3 - Performance Indicators'!C8="","",'3 - Performance Indicators'!C8) | B6: =IF('3 - Performance Indicators'!D8="","",'3 - Performance Indicators'!D8) | C6: =IF('3 - Performance Indicators'!E8="","",'3 - Performance Indicators'!E8) | D6: =IF('3 - Performance Indicators'!F8="","",'3 - Performance Indicators'!F8) | E6: =IF('3 - Performance Indicators'!G8="","",'3 - Performance Indicators'!G8) | F6: =IF('3 - Performance Indicators'!I8="","",'3 - Performance Indicators'!I8)
A7: =IF('3 - Performance Indicators'!C9="","",'3 - Performance Indicators'!C9) | B7: =IF('3 - Performance Indicators'!D9="","",'3 - Performance Indicators'!D9) | C7: =IF('3 - Performance Indicators'!E9="","",'3 - Performance Indicators'!E9) | D7: =IF('3 - Performance Indicators'!F9="","",'3 - Performance Indicators'!F9) | E7: =IF('3 - Performance Indicators'!G9="","",'3 - Performance Indicators'!G9) | F7: =IF('3 - Performance Indicators'!I9="","",'3 - Performance Indicators'!I9)
A8: =IF('3 - Performance Indicators'!C10="","",'3 - Performance Indicators'!C10) | B8: =IF('3 - Performance Indicators'!D10="","",'3 - Performance Indicators'!D10) | C8: =IF('3 - Performance Indicators'!E10="","",'3 - Performance Indicators'!E10) | D8: =IF('3 - Performance Indicators'!F10="","",'3 - Performance Indicators'!F10) | E8: =IF('3 - Performance Indicators'!G10="","",'3 - Performance Indicators'!G10) | F8: =IF('3 - Performance Indicators'!I10="","",'3 - Performance Indicators'!I10)
A9: =IF('3 - Performance Indicators'!C11="","",'3 - Performance Indicators'!C11) | B9: =IF('3 - Performance Indicators'!D11="","",'3 - Performance Indicators'!D11) | C9: =IF('3 - Performance Indicators'!E11="","",'3 - Performance Indicators'!E11) | D9: =IF('3 - Performance Indicators'!F11="","",'3 - Performance Indicators'!F11) | E9: =IF('3 - Performance Indicators'!G11="","",'3 - Performance Indicators'!G11) | F9: =IF('3 - Performance Indicators'!I11="","",'3 - Performance Indicators'!I11)
A10: =IF('3 - Performance Indicators'!C12="","",'3 - Performance Indicators'!C12) | B10: =IF('3 - Performance Indicators'!D12="","",'3 - Performance Indicators'!D12) | C10: =IF('3 - Performance Indicators'!E12="","",'3 - Performance Indicators'!E12) | D10: =IF('3 - Performance Indicators'!F12="","",'3 - Performance Indicators'!F12) | E10: =IF('3 - Performance Indicators'!G12="","",'3 - Performance Indicators'!G12) | F10: =IF('3 - Performance Indicators'!I12="","",'3 - Performance Indicators'!I12)
A11: =IF('3 - Performance Indicators'!C13="","",'3 - Performance Indicators'!C13) | B11: =IF('3 - Performance Indicators'!D13="","",'3 - Performance Indicators'!D13) | C11: =IF('3 - Performance Indicators'!E13="","",'3 - Performance Indicators'!E13) | D11: =IF('3 - Performance Indicators'!F13="","",'3 - Performance Indicators'!F13) | E11: =IF('3 - Performance Indicators'!G13="","",'3 - Performance Indicators'!G13) | F11: =IF('3 - Performance Indicators'!I13="","",'3 - Performance Indicators'!I13)
A12: =IF('3 - Performance Indicators'!C14="","",'3 - Performance Indicators'!C14) | B12: =IF('3 - Performance Indicators'!D14="","",'3 - Performance Indicators'!D14) | C12: =IF('3 - Performance Indicators'!E14="","",'3 - Performance Indicators'!E14) | D12: =IF('3 - Performance Indicators'!F14="","",'3 - Performance Indicators'!F14) | E12: =IF('3 - Performance Indicators'!G14="","",'3 - Performance Indicators'!G14) | F12: =IF('3 - Performance Indicators'!I14="","",'3 - Performance Indicators'!I14)
A13: =IF('3 - Performance Indicators'!C15="","",'3 - Performance Indicators'!C15) | B13: =IF('3 - Performance Indicators'!D15="","",'3 - Performance Indicators'!D15) | C13: =IF('3 - Performance Indicators'!E15="","",'3 - Performance Indicators'!E15) | D13: =IF('3 - Performance Indicators'!F15="","",'3 - Performance Indicators'!F15) | E13: =IF('3 - Performance Indicators'!G15="","",'3 - Performance Indicators'!G15) | F13: =IF('3 - Performance Indicators'!I15="","",'3 - Performance Indicators'!I15)
A14: =IF('3 - Performance Indicators'!C16="","",'3 - Performance Indicators'!C16) | B14: =IF('3 - Performance Indicators'!D16="","",'3 - Performance Indicators'!D16) | C14: =IF('3 - Performance Indicators'!E16="","",'3 - Performance Indicators'!E16) | D14: =IF('3 - Performance Indicators'!F16="","",'3 - Performance Indicators'!F16) | E14: =IF('3 - Performance Indicators'!G16="","",'3 - Performance Indicators'!G16) | F14: =IF('3 - Performance Indicators'!I16="","",'3 - Performance Indicators'!I16)
A15: =IF('3 - Performance Indicators'!C17="","",'3 - Performance Indicators'!C17) | B15: =IF('3 - Performance Indicators'!D17="","",'3 - Performance Indicators'!D17) | C15: =IF('3 - Performance Indicators'!E17="","",'3 - Performance Indicators'!E17) | D15: =IF('3 - Performance Indicators'!F17="","",'3 - Performance Indicators'!F17) | E15: =IF('3 - Performance Indicators'!G17="","",'3 - Performance Indicators'!G17) | F15: =IF('3 - Performance Indicators'!I17="","",'3 - Performance Indicators'!I17)
... A33: =IF('3 - Performance Indicators'!C35="","",'3 - Performance Indicators'!C35) | B33: =IF('3 - Performance Indicators'!D35="","",'3 - Performance Indicators'!D35) | C33: =IF('3 - Performance Indicators'!E35="","",'3 - Performance Indicators'!E35) | D33: =IF('3 - Performance Indicators'!F35="","",'3 - Performance Indicators'!F35) | E33: =IF('3 - Performance Indicators'!G35="","",'3 - Performance Indicators'!G35) | F33: =IF('3 - Performance Indicators'!I35="","",'3 - Performance Indicators'!I35)

Sheet Dropdowns
A1: v2.0 Pis | B1: v3.0 Pis | C1: v3.1 Pis | D1: v4.0 Pis | G1: SH Coding | J1: CAB Response Coding | M1: Assessment Stage | O1: Standard Version | Q1: Language | S1: Relates To
A2: 1.1.1 : Stock status | B2: 1.1.1 : Stock status | C2: 1.1.1 : Stock status | D2: 1.1.1 : Stock status | G2: Select Expected Outcome | J2: Select CAB Response Type | M2: Select Assessment Stage | O2: Select Standard Version | Q2: Select from Dropdown | S2: CAB Rationale
A3: 1.1.1A : Stock status (LTL) | B3: 1.1.1A : Stock status (LTL) | C3: 1.1.1A : Stock status (LTL) | D3: 1.1.1A : Stock status (LTL) | G3: Change suggested to increase clarity | H3: A change should be made to improve clarity, but should not result in changes to the score or rationale. | J3: No score change - rationale edited | K3: Rationale amended, score unchanged. | M3: Announcement Comment Draft Report | O3: v2.0 | Q3: English | S3: Conditions
A4: 1.1.2 : Stock rebuilding | B4: 1.1.2 : Stock rebuilding | C4: 1.1.2 : Stock rebuilding | D4: 1.1.2 : Stock rebuilding | G4: Scoring implications unknown | H4: I (stakeholder) do not know if or how the scores will change based on input and evidence. CAB to consider the input and evaluate whether the score should be changed, rationale updated and/or additional evidence presented. | J4: No score change - additional evidence presented | K4: Additional evidence provided, score unchanged. | M4: Site Visit | O4: v3.0 | Q4: Japanese | S4: Client Action Plan
A5: 1.1.3 Bivalves: Genetic outcome | B5: 1.1.3 Bivalves: Genetic outcome | C5: 1.1.3 Bivalves: Genetic outcome | D5: 1.1.3 Bivalves: Genetic outcome | G5: Evidence Missing in Rationale | H5: No score change expected. CAB to change the scoring rationale or present additional evidence to support the scoring. | J5: Score increased | K5: Score increased. | M5: Public Comment Draft Report | O5: v3.1 | Q5: French | S5: Other
A6: 1.2.1 : Harvest strategy | B6: 1.2.1 : Harvest strategy | C6: 1.2.1 : Harvest strategy | D6: 1.2.1 : Harvest strategy | G6: Score increase expected | H6: Score increase expected. CAB to consider the input and evaluate whether the score should be increased. | J6: Score reduced to <80, condition raised | K6: Score reduced to between 60-80. New condition raised. | M6: Surveillance Audit | O6: v4.0 | Q6: Spanish
A7: 1.2.2 : Harvest control rules and tools | B7: 1.2.2 : Harvest control rules and tools | C7: 1.2.2 : Harvest control rules and tools | D7: 1.2.2 : Harvest control rules and tools | G7: Score reduction expected to <60, PI fails | H7: This Performance Indicator should fail, i.e. the score should be less than 60. | J7: Score reduced to <60, PI failed | K7: Score reduced to less than 60. PI fails. | Q7: German
A8: 1.2.3 : Information and monitoring | B8: 1.2.3 : Information and monitoring | C8: 1.2.3 : Information and monitoring | D8: 1.2.3 : Information and monitoring | G8: Score reduction expected to <80, condition raised | H8: A condition should be raised for this Performance Indicator, i.e. the score should be between 60-80. | J8: Score Reduced - minor score reduction | K8: Minor reduction in score which has not caused the PI to fail or a new condition to be raised.
A9: 1.2.4 : Assessment of stock status | B9: 1.2.4 : Assessment of stock status | C9: 1.2.4 : Assessment of stock status | D9: 1.2.4 : Assessment of stock status | G9: Minor score reduction expected | H9: A score reduction is expected which will not cause the Performance Indicator to fail or a new condition to be raised.
A10: 1.2.5 Bivalves : Genetic Management | B10: 1.2.5 Bivalves : Genetic Management | C10: 1.2.5 Bivalves : Genetic Management | D10: 1.2.5 Bivalves : Genetic Management | G10: No change | H10: No changes made to rationale or score
A11: 1.2.6 Bivalves : Genetic Information | B11: 1.2.6 Bivalves : Genetic Information | C11: 1.2.6 Bivalves : Genetic Information | D11: 1.2.6 Bivalves : Genetic Information
A12: 1.3.1 Salmon: Enhancement Outcome | B12: 1.3.1 Salmon: Enhancement Outcome | C12: 1.3.1 Salmon: Enhancement Outcome | D12: 1.3.1 Salmon: Enhancement Outcome
A13: 1.3.2 Salmon: Enhancement Management | B13: 1.3.2 Salmon: Enhancement Management | C13: 1.3.2 Salmon: Enhancement Management | D13: 1.3.2 Salmon: Enhancement Management
A14: 1.3.3 Salmon: Enhancement Information | B14: 1.3.3 Salmon: Enhancement Information | C14: 1.3.3 Salmon: Enhancement Information | D14: 1.3.3 Salmon: Enhancement Information
A15: 2.1.1 : Primary species outcome | B15: 2.1.1 : In-scope species outcome status | C15: 2.1.1 : In-scope species outcome | D15: 2.1.1 : Fish & Invertebrate species outcome
A16: 2.1.2 : Primary species management | B16: 2.1.2 : In-scope species management strategy | C16: 2.1.2 : In-scope species management strategy | D16: 2.1.2 : Fish & Invertebrate species management strategy
A17: 2.1.3 : Primary species information | B17: 2.1.3 : In-scope species information | C17: 2.1.3 : In-scope species information | D17: 2.1.3 : Fish & Invertebrate species information
A18: 2.2.1 : Secondary species outcome | B18: 2.2.1 : ETP/OOS outcome status | C18: 2.2.1 : ETP/OOS species outcome | D18: 2.2.1 : Bird, mammal, reptile and amphibian species outcome
A19: 2.2.2 : Secondary species management | B19: 2.2.2 : ETP/OOS management strategy | C19: 2.2.2 : ETP/OOS species management strategy | D19: 2.2.2 : Bird, mammal, reptile and amphibian species management
A20: 2.2.3 : Secondary species information | B20: 2.2.3 : ETP/OOS information | C20: 2.2.3 : ETP/OOS species information | D20: 2.2.3 : Bird, mammal, reptile and amphibian species information
A21: 2.3.1 : ETP species outcome | B21: 2.3.1 : Habitats outcome status | C21: 2.3.1 : Habitats outcome | D21: 2.3.1 : Habitats outcome
A22: 2.3.2 : ETP species management | B22: 2.3.2 : Habitats management strategy | C22: 2.3.2 : Habitats management strategy | D22: 2.3.2 : Habitats management
... A36: 3.2.1 : Fishery-specific objectives | B36: 3.2.4 : Monitoring and management performance evaluation | C36: 3.2.4 : Monitoring and management performance evaluation | D36: 3.2.4 : Monitoring and management performance evaluation
A37: 3.2.2 : Decision-making processes
A38: 3.2.3 : Compliance and enforcement
A39: 3.2.4 : Monitoring and management performance evaluation

Sheet Intro Text
B1: English | C1: Spanish | D1: Japanese | E1: German | F1: French
A2: 1 | B2: MSC Template for Stakeholder Input into Fishery Assessments - guidance for users | C2: Plantilla del MSC para la aportación de las partes interesadas en las evaluaciones pesqueras: orientación para los usuarios | D2: 漁業評価へのステークホルダーのインプットのためのMSCテンプレート - ユーザー向けガイダンス | E2: MSC-Vorlage für Stakeholder-Input in Fischereibewertungen – Anleitung für Benutzer | F2: Modèle MSC pour la participation des parties prenantes aux évaluations des pêcheries : guide à l'intention des utilisateurs
A3: 2 | B3: This stakeholder input template is formatted to allow assessment teams to respond to stakeholder input, and to copy the tables into the reporting template. | C3: Esta plantilla de aportes de las partes interesadas está formateada para permitir que los equipos de evaluación respondan a los aportes de las partes interesadas y copien las tablas en la plantilla de informes. | D3: この利害関係者入力テンプレートは、評価チームが利害関係者の入力に応答し、表をレポート テンプレートにコピーできるようにフォーマットされています。 | E3: Diese Stakeholder-Eingabevorlage ist so formatiert, dass Bewertungsteams auf die Eingaben der Stakeholder reagieren und die Tabellen in die Berichtsvorlage kopieren können. | F3: Ce modèle de contribution des parties prenantes est formaté pour permettre aux équipes d’évaluation de répondre aux contributions des parties prenantes et de copier les tableaux dans le modèle de rapport.
A4: 3 | B4: Stakeholders must use this template to provide any written input at any stage of an MSC fishery assessment. Further information can be found on the MSC webpage 'How to engage with a fishery assessment' (link below). | C4: Las partes interesadas deben utilizar esta plantilla para proporcionar cualquier aportación por escrito en cualquier etapa de la evaluación de una pesquería del MSC. Puede encontrar más información en la página web del MSC «Cómo participar en una evaluación de pesquerías» (enlace a continuación). | D4: ステークホルダーは、MSC漁業審査のどの段階でも、このテンプレートを使用して書面による意見を提出する必要があります。 詳細については、MSCのウェブページ「漁業審査への参加方法」（下記リンク）をご覧ください。 | E4: Interessengruppen müssen diese Vorlage verwenden, um in jeder Phase einer MSC-Fischereibewertung schriftliche Beiträge zu leisten. Weitere Informationen finden Sie auf der MSC-Webseite „Wie Sie sich an einer Fischereibewertung beteiligen“ (Link unten). | F4: Les parties prenantes doivent utiliser ce modèle pour fournir toute contribution écrite à toute étape d'une évaluation de pêcherie MSC.
A5: 4 | B5: Stakeholder input is most useful to the assessment team when it is attributed to a Performance Indicator (PI), which assessment teams use to score fisheries. The scoring issues (a, b, c, etc.) should be included in your rationale column as needed. | C5: Las aportaciones de las partes interesadas son más útiles para el equipo de evaluación cuando se atribuyen a un Indicador de Desempeño (ID), que los equipos de evaluación utilizan para puntuar las pesquerías. Los aspectos de la puntuación (a, b, c, etc.) deben incluirse en la columna de justificación según sea necesario. | D5: ステークホルダーからの意見は、評価チームが漁業の評価に用いる業績指標（PI）に反映されると、評価チームにとって最も有益です。評価の根拠となる項目（a、b、cなど）は、必要に応じて根拠欄に記載してください。 | E5: Der Input der Stakeholder ist für das Bewertungsteam am nützlichsten, wenn er einem Leistungsindikator (PI) zugeordnet wird, der zur Bewertung der Fischerei verwendet wird. Die Bewertungskriterien (a, b, c usw.) sollten bei Bedarf in die Begründungsspalte aufgenommen werden. | F5: Les contributions des parties prenantes sont particulièrement utiles à l'équipe d'évaluation lorsqu'elles sont associées à un indicateur de performance (IP), utilisé par les équipes d'évaluation pour noter les pêcheries. Les points de notation (a, b, c, etc.) doivent être inclus dans votre colonne « Justification », si nécessaire.
A6: 5 | B6: Objective evidence or references should be provided in support of any claims. Evidence or references must have been available on or before the last day of the site visit (or up to 30 days later if agreed in writing with the CAB at the site visit) to be considered within this assessment. | C6: Se deben proporcionar pruebas o referencias objetivas que respalden cualquier afirmación. Para que se consideren en esta evaluación, dichas pruebas o referencias deben haber estado disponibles el último día de la visita al sitio o antes (o hasta 30 días después si se acuerda por escrito con el CAB en la visita). | D6: いかなる主張も、客観的な証拠または参考文献によって裏付けられる必要があります。本評価の対象となるためには、証拠または参考文献は、現地訪問の最終日まで（または現地訪問時にCABと書面で合意した場合は30日後まで）に提出されている必要があります。 | E6: Zur Untermauerung aller Ansprüche sind objektive Nachweise oder Referenzen vorzulegen. Nachweise oder Referenzen müssen spätestens am letzten Tag des Vor-Ort-Besuchs (oder bis zu 30 Tage später, sofern dies beim Vor-Ort-Besuch schriftlich mit dem CAB vereinbart wurde) vorliegen, um bei dieser Bewertung berücksichtigt zu werden. | F6: Des preuves ou références objectives doivent être fournies à l'appui de toute allégation. Pour être prises en compte dans cette évaluation, ces preuves ou références doivent être disponibles au plus tard le dernier jour de la visite sur site (ou jusqu'à 30 jours plus tard, si cela a été convenu par écrit avec l'organisme d'évaluation de la conformité lors de la visite sur site).
A7: 6 | B7: Please email the completed template to the Conformity Assessment Body (CAB) completing the assessment (details available on the Fishery Announcement) | C7: Envíe por correo electrónico la plantilla completa al Organismo de Evaluación de la Conformidad (CAB) que realiza la evaluación (los detalles están disponibles en el Anuncio de Pesca). | D7: 記入済みのテンプレートを、評価を完了した適合性評価機関（CAB）に電子メールで送信してください（詳細は漁業に関するお知らせに記載されています）。 | E7: Bitte senden Sie die ausgefüllte Vorlage per E-Mail an die Konformitätsbewertungsstelle (CAB), die die Bewertung durchführt (Details finden Sie in der Fischereiankündigung). | F7: Veuillez envoyer par courrier électronique le modèle complété à l'organisme d'évaluation de la conformité (CAB) qui effectue l'évaluation (détails disponibles sur l'annonce de la pêche)
A8: 7 | B8: Do not use this template to provide input on the Final Draft Report. Information on providing input at this stage via an objection can be found on the MSC webpage on 'How to engage with a fishery assessment' (link below). | C8: No utilice esta plantilla para aportar información al borrador final del informe. Puede encontrar información sobre cómo aportar información en esta etapa mediante una objeción en la página web del MSC sobre «Cómo participar en una evaluación de pesquerías» (enlace más abajo). | D8: 最終報告書案への意見提出には、このテンプレートを使用しないでください。この段階で異議申し立てを通じて意見を提出する方法については、MSCのウェブページ「漁業評価への参加方法」（下記リンク）をご覧ください。 | E8: Verwenden Sie diese Vorlage nicht, um Eingaben zum endgültigen Berichtsentwurf zu machen. Informationen zur Eingabe von Eingaben in dieser Phase durch einen Einspruch finden Sie auf der MSC-Webseite „Wie man sich an einer Fischereibewertung beteiligt“ (Link unten). | F8: N'utilisez pas ce modèle pour contribuer au rapport final. Des informations sur la manière de formuler une objection à ce stade sont disponibles sur la page web du MSC intitulée « Comment participer à une évaluation de pêcherie » (lien ci-dessous).
A9: 8 | B9: Contact the CAB or your local MSC Outreach representative (info@msc.org) if you have questions on completing the template. | C9: Comuníquese con el CAB o con su representante local de extensión de MSC (info@msc.org) si tiene preguntas sobre cómo completar la plantilla. | D9: テンプレートの記入に関してご質問がある場合は、CAB またはお近くの MSC Outreach 担当者 (info@msc.org) にお問い合わせください。 | E9: Wenden Sie sich an das CAB oder Ihren lokalen MSC Outreach-Vertreter (info@msc.org), wenn Sie Fragen zum Ausfüllen der Vorlage haben. | F9: Contactez le CAB ou votre représentant local MSC Outreach (info@msc.org) si vous avez des questions sur la manière de remplir le modèle.
A10: 9 | B10: Once completed, this stakeholder input template will be uploaded to the MSC website. Please inform the CAB if you would like your address, email and/or phone number redacted prior to upload. | C10: Una vez completada, esta plantilla de participación de las partes interesadas se publicará en el sitio web de MSC. Por favor, informe al CAB si desea que su dirección, correo electrónico o número de teléfono se oculten antes de publicarla. | D10: 記入が完了すると、このステークホルダー入力テンプレートはMSCウェブサイトにアップロードされます。アップロード前に住所、メールアドレス、電話番号などの情報を削除されたい場合は、CABまでお知らせください。 | E10: Nach der Fertigstellung wird diese Stakeholder-Eingabevorlage auf die MSC-Website hochgeladen. Bitte informieren Sie das CAB, wenn Ihre Adresse, E-Mail-Adresse und/oder Telefonnummer vor dem Hochladen unkenntlich gemacht werden sollen. | F10: Une fois rempli, ce modèle de participation des parties prenantes sera mis en ligne sur le site web du MSC. Veuillez informer le CAB si vous souhaitez que votre adresse, votre courriel et/ou votre numéro de téléphone soient supprimés avant la mise en ligne.
A11: 10 | B11: Please add new comment point to a new row, even if repeating a performance indicator | C11: Agregue un nuevo punto de comentario en una nueva fila, incluso si repite un indicador de rendimiento | D11: パフォーマンス指標を繰り返している場合でも、新しいコメントポイントを新しい行に追加してください。 | E11: Bitte fügen Sie einen neuen Kommentarpunkt in eine neue Zeile ein, auch wenn ein Leistungsindikator wiederholt wird | F11: Veuillez ajouter un nouveau point de commentaire à une nouvelle ligne, même s'il s'agit de répéter un indicateur de performance
A12: 11 | B12: Use 'Alt + Enter' for line breaks within cells. | C12: Utilice 'Alt + Enter' para saltos de línea dentro de las celdas. | D12: セル内で改行するには、「Alt + Enter」を使用します。 | E12: Verwenden Sie „Alt + Eingabe“ für Zeilenumbrüche innerhalb von Zellen. | F12: Utilisez « Alt + Entrée » pour les sauts de ligne dans les cellules.
A13: 12 | B13: Any queries related to the template format should be sent to standards@msc.org. | C13: Cualquier consulta relacionada con el formato de la plantilla debe enviarse a standards@msc.org. | D13: テンプレート形式に関するご質問は standards@msc.org までお送りください。 | E13: Alle Fragen zum Vorlagenformat sollten an standards@msc.org gesendet werden. | F13: Toute question relative au format du modèle doit être envoyée à standards@msc.org.
